Package: globaltest Version: 5.61.0 Command: E:\biocbuild\bbs-3.21-bioc\R\bin\R.exe CMD INSTALL globaltest StartedAt: 2025-02-10 16:44:39 -0500 (Mon, 10 Feb 2025) EndedAt: 2025-02-10 16:45:34 -0500 (Mon, 10 Feb 2025) EllapsedTime: 55.3 seconds RetCode: 0 Status: OK