Package: gmoviz Version: 1.19.0 Command: /Library/Frameworks/R.framework/Resources/bin/R CMD build --keep-empty-dirs --no-resave-data gmoviz StartedAt: 2025-02-04 16:29:47 -0500 (Tue, 04 Feb 2025) EndedAt: 2025-02-04 16:30:27 -0500 (Tue, 04 Feb 2025) EllapsedTime: 40.4 seconds RetCode: 0 Status: OK PackageFile: gmoviz_1.19.0.tar.gz PackageFileSize: 6.652 MiB