Package: gmoviz Version: 1.19.0 Command: /Library/Frameworks/R.framework/Resources/bin/R CMD INSTALL gmoviz StartedAt: 2025-02-04 15:14:26 -0500 (Tue, 04 Feb 2025) EndedAt: 2025-02-04 15:14:40 -0500 (Tue, 04 Feb 2025) EllapsedTime: 14.6 seconds RetCode: 0 Status: OK