Package: gmoviz Version: 1.19.0 Command: /home/biocbuild/R/R/bin/R CMD check --install=check:gmoviz.install-out.txt --library=/home/biocbuild/R/R/site-library --no-vignettes --timings gmoviz_1.19.0.tar.gz StartedAt: 2025-01-28 11:10:27 -0000 (Tue, 28 Jan 2025) EndedAt: 2025-01-28 11:16:15 -0000 (Tue, 28 Jan 2025) EllapsedTime: 347.2 seconds RetCode: 0 Status: OK CheckDir: gmoviz.Rcheck Warnings: 0