Package: gmoviz Version: 1.19.0 Command: rm -rf gmoviz.buildbin-libdir && mkdir gmoviz.buildbin-libdir && /Users/biocbuild/BBS/utils/build-universal.sh gmoviz_1.19.0.tar.gz /Library/Frameworks/R.framework/Resources/bin/R gmoviz.buildbin-libdir StartedAt: 2025-02-10 00:56:15 -0500 (Mon, 10 Feb 2025) EndedAt: 2025-02-10 00:57:09 -0500 (Mon, 10 Feb 2025) EllapsedTime: 53.3 seconds RetCode: 0 Status: OK PackageFile: gmoviz_1.19.0.tgz PackageFileSize: 6.759 MiB