Package: gmoviz Version: 1.19.0 Command: /Library/Frameworks/R.framework/Resources/bin/R CMD build --keep-empty-dirs --no-resave-data gmoviz StartedAt: 2025-02-09 16:56:08 -0500 (Sun, 09 Feb 2025) EndedAt: 2025-02-09 16:58:19 -0500 (Sun, 09 Feb 2025) EllapsedTime: 131.2 seconds RetCode: 0 Status: OK PackageFile: gmoviz_1.19.0.tar.gz PackageFileSize: 6.695 MiB