Package: gmoviz Version: 1.19.0 Command: /Library/Frameworks/R.framework/Resources/bin/R CMD check --install=check:gmoviz.install-out.txt --library=/Library/Frameworks/R.framework/Resources/library --no-vignettes --timings gmoviz_1.19.0.tar.gz StartedAt: 2025-02-09 21:04:42 -0500 (Sun, 09 Feb 2025) EndedAt: 2025-02-09 21:09:48 -0500 (Sun, 09 Feb 2025) EllapsedTime: 306.0 seconds RetCode: 0 Status: OK CheckDir: gmoviz.Rcheck Warnings: 0