Package: gmoviz Version: 1.19.0 Command: rm -rf gmoviz.buildbin-libdir && mkdir gmoviz.buildbin-libdir && E:\biocbuild\bbs-3.21-bioc\R\bin\R.exe CMD INSTALL --build --library=gmoviz.buildbin-libdir gmoviz_1.19.0.tar.gz StartedAt: 2025-02-10 07:52:10 -0500 (Mon, 10 Feb 2025) EndedAt: 2025-02-10 07:53:05 -0500 (Mon, 10 Feb 2025) EllapsedTime: 54.8 seconds RetCode: 0 Status: OK PackageFile: gmoviz_1.19.0.zip PackageFileSize: 4.769 MiB