Package: gmoviz Version: 1.19.0 Command: chmod a+r gmoviz -R && E:\biocbuild\bbs-3.21-bioc\R\bin\R.exe CMD build --keep-empty-dirs --no-resave-data gmoviz StartedAt: 2025-02-09 19:01:01 -0500 (Sun, 09 Feb 2025) EndedAt: 2025-02-09 19:03:12 -0500 (Sun, 09 Feb 2025) EllapsedTime: 130.8 seconds RetCode: 0 Status: OK PackageFile: gmoviz_1.19.0.tar.gz PackageFileSize: 4.706 MiB