Package: goTools Version: 1.81.0 Command: /home/biocbuild/R/R/bin/R CMD build --keep-empty-dirs --no-resave-data goTools StartedAt: 2025-01-28 23:20:26 -0000 (Tue, 28 Jan 2025) EndedAt: 2025-01-28 23:20:52 -0000 (Tue, 28 Jan 2025) EllapsedTime: 26.0 seconds RetCode: 0 Status: OK PackageFile: goTools_1.81.0.tar.gz PackageFileSize: 248.7 KiB