Package: goTools Version: 1.81.0 Command: /home/biocbuild/R/R/bin/R CMD check --install=check:goTools.install-out.txt --library=/home/biocbuild/R/R/site-library --no-vignettes --timings goTools_1.81.0.tar.gz StartedAt: 2025-01-28 11:15:13 -0000 (Tue, 28 Jan 2025) EndedAt: 2025-01-28 11:17:02 -0000 (Tue, 28 Jan 2025) EllapsedTime: 108.1 seconds RetCode: 0 Status: OK CheckDir: goTools.Rcheck Warnings: 0