Package: goTools Version: 1.81.0 Command: /home/biocbuild/R/R/bin/R CMD INSTALL goTools StartedAt: 2025-01-29 19:47:40 -0000 (Wed, 29 Jan 2025) EndedAt: 2025-01-29 19:47:57 -0000 (Wed, 29 Jan 2025) EllapsedTime: 16.4 seconds RetCode: 0 Status: OK