Package: goTools Version: 1.81.0 Command: /Library/Frameworks/R.framework/Resources/bin/R CMD build --keep-empty-dirs --no-resave-data goTools StartedAt: 2025-02-04 16:53:48 -0500 (Tue, 04 Feb 2025) EndedAt: 2025-02-04 16:54:13 -0500 (Tue, 04 Feb 2025) EllapsedTime: 25.1 seconds RetCode: 0 Status: OK PackageFile: goTools_1.81.0.tar.gz PackageFileSize: 241.2 KiB