Package: goTools Version: 1.81.0 Command: /Library/Frameworks/R.framework/Resources/bin/R CMD INSTALL goTools StartedAt: 2025-02-04 15:15:08 -0500 (Tue, 04 Feb 2025) EndedAt: 2025-02-04 15:15:26 -0500 (Tue, 04 Feb 2025) EllapsedTime: 18.4 seconds RetCode: 0 Status: OK