Package: goTools Version: 1.81.0 Command: /home/biocbuild/bbs-3.21-bioc/R/bin/R CMD build --keep-empty-dirs --no-resave-data goTools StartedAt: 2025-02-04 17:28:05 -0500 (Tue, 04 Feb 2025) EndedAt: 2025-02-04 17:28:24 -0500 (Tue, 04 Feb 2025) EllapsedTime: 19.0 seconds RetCode: 0 Status: OK PackageFile: goTools_1.81.0.tar.gz PackageFileSize: 241.7 KiB