Package: goTools Version: 1.81.0 Command: rm -rf goTools.buildbin-libdir && mkdir goTools.buildbin-libdir && E:\biocbuild\bbs-3.21-bioc\R\bin\R.exe CMD INSTALL --build --library=goTools.buildbin-libdir goTools_1.81.0.tar.gz StartedAt: 2025-02-05 08:04:41 -0500 (Wed, 05 Feb 2025) EndedAt: 2025-02-05 08:04:57 -0500 (Wed, 05 Feb 2025) EllapsedTime: 15.7 seconds RetCode: 0 Status: OK PackageFile: goTools_1.81.0.zip PackageFileSize: 127 KiB