Package: goTools Version: 1.81.0 Command: E:\biocbuild\bbs-3.21-bioc\R\bin\R.exe CMD check --no-multiarch --install=check:goTools.install-out.txt --library=E:\biocbuild\bbs-3.21-bioc\R\library --no-vignettes --timings goTools_1.81.0.tar.gz StartedAt: 2025-02-05 02:09:06 -0500 (Wed, 05 Feb 2025) EndedAt: 2025-02-05 02:11:04 -0500 (Wed, 05 Feb 2025) EllapsedTime: 118.4 seconds RetCode: 0 Status: OK CheckDir: goTools.Rcheck Warnings: 0