Package: goTools Version: 1.81.0 Command: E:\biocbuild\bbs-3.21-bioc\R\bin\R.exe CMD INSTALL goTools StartedAt: 2025-02-04 15:42:05 -0500 (Tue, 04 Feb 2025) EndedAt: 2025-02-04 15:42:19 -0500 (Tue, 04 Feb 2025) EllapsedTime: 14.1 seconds RetCode: 0 Status: OK