Package: goseq Version: 1.59.0 Command: rm -rf goseq.buildbin-libdir && mkdir goseq.buildbin-libdir && /Users/biocbuild/BBS/utils/build-universal.sh goseq_1.59.0.tar.gz /Library/Frameworks/R.framework/Resources/bin/R goseq.buildbin-libdir StartedAt: 2025-02-09 22:16:32 -0500 (Sun, 09 Feb 2025) EndedAt: 2025-02-09 22:16:48 -0500 (Sun, 09 Feb 2025) EllapsedTime: 16.3 seconds RetCode: 0 Status: OK PackageFile: goseq_1.59.0.tgz PackageFileSize: 1.885 MiB