Package: goseq Version: 1.59.0 Command: /Library/Frameworks/R.framework/Resources/bin/R CMD check --install=check:goseq.install-out.txt --library=/Library/Frameworks/R.framework/Resources/library --no-vignettes --timings goseq_1.59.0.tar.gz StartedAt: 2025-02-09 19:30:49 -0500 (Sun, 09 Feb 2025) EndedAt: 2025-02-09 19:32:55 -0500 (Sun, 09 Feb 2025) EllapsedTime: 125.5 seconds RetCode: 0 Status: OK CheckDir: goseq.Rcheck Warnings: 0