Package: goseq Version: 1.59.0 Command: /Library/Frameworks/R.framework/Resources/bin/R CMD INSTALL goseq StartedAt: 2025-02-09 15:13:51 -0500 (Sun, 09 Feb 2025) EndedAt: 2025-02-09 15:14:07 -0500 (Sun, 09 Feb 2025) EllapsedTime: 15.6 seconds RetCode: 0 Status: OK