Package: goseq Version: 1.59.0 Command: /home/biocbuild/R/R/bin/R CMD build --keep-empty-dirs --no-resave-data goseq StartedAt: 2025-01-28 23:19:05 -0000 (Tue, 28 Jan 2025) EndedAt: 2025-01-28 23:24:04 -0000 (Tue, 28 Jan 2025) EllapsedTime: 299.1 seconds RetCode: 0 Status: OK PackageFile: goseq_1.59.0.tar.gz PackageFileSize: 1.829 MiB