Package: goseq Version: 1.59.0 Command: /home/biocbuild/R/R/bin/R CMD INSTALL goseq StartedAt: 2025-01-29 20:03:00 -0000 (Wed, 29 Jan 2025) EndedAt: 2025-01-29 20:03:51 -0000 (Wed, 29 Jan 2025) EllapsedTime: 50.8 seconds RetCode: 0 Status: OK