Package: goseq Version: 1.59.0 Command: rm -rf goseq.buildbin-libdir && mkdir goseq.buildbin-libdir && /Users/biocbuild/BBS/utils/build-universal.sh goseq_1.59.0.tar.gz /Library/Frameworks/R.framework/Resources/bin/R goseq.buildbin-libdir StartedAt: 2025-02-10 00:56:23 -0500 (Mon, 10 Feb 2025) EndedAt: 2025-02-10 00:57:17 -0500 (Mon, 10 Feb 2025) EllapsedTime: 53.4 seconds RetCode: 0 Status: OK PackageFile: goseq_1.59.0.tgz PackageFileSize: 1.885 MiB