Package: goseq Version: 1.59.0 Command: /Library/Frameworks/R.framework/Resources/bin/R CMD INSTALL goseq StartedAt: 2025-02-09 15:20:33 -0500 (Sun, 09 Feb 2025) EndedAt: 2025-02-09 15:21:22 -0500 (Sun, 09 Feb 2025) EllapsedTime: 49.7 seconds RetCode: 0 Status: OK