Package: goseq Version: 1.59.0 Command: /home/biocbuild/bbs-3.21-bioc/R/bin/R CMD build --keep-empty-dirs --no-resave-data goseq StartedAt: 2025-02-09 17:29:26 -0500 (Sun, 09 Feb 2025) EndedAt: 2025-02-09 17:33:02 -0500 (Sun, 09 Feb 2025) EllapsedTime: 215.2 seconds RetCode: 0 Status: OK PackageFile: goseq_1.59.0.tar.gz PackageFileSize: 1.838 MiB