Package: goseq Version: 1.59.0 Command: /home/biocbuild/bbs-3.21-bioc/R/bin/R CMD INSTALL goseq StartedAt: 2025-02-09 15:40:18 -0500 (Sun, 09 Feb 2025) EndedAt: 2025-02-09 15:40:59 -0500 (Sun, 09 Feb 2025) EllapsedTime: 41.1 seconds RetCode: 0 Status: OK