Package: goseq Version: 1.59.0 Command: chmod a+r goseq -R && E:\biocbuild\bbs-3.21-bioc\R\bin\R.exe CMD build --keep-empty-dirs --no-resave-data goseq StartedAt: 2025-02-09 19:03:13 -0500 (Sun, 09 Feb 2025) EndedAt: 2025-02-09 19:10:11 -0500 (Sun, 09 Feb 2025) EllapsedTime: 418.7 seconds RetCode: 0 Status: OK PackageFile: goseq_1.59.0.tar.gz PackageFileSize: 1.704 MiB