Package: goseq Version: 1.59.0 Command: E:\biocbuild\bbs-3.21-bioc\R\bin\R.exe CMD check --no-multiarch --install=check:goseq.install-out.txt --library=E:\biocbuild\bbs-3.21-bioc\R\library --no-vignettes --timings goseq_1.59.0.tar.gz StartedAt: 2025-02-13 01:50:45 -0500 (Thu, 13 Feb 2025) EndedAt: 2025-02-13 01:57:13 -0500 (Thu, 13 Feb 2025) EllapsedTime: 387.6 seconds RetCode: 0 Status: OK CheckDir: goseq.Rcheck Warnings: 0