Package: graper Version: 1.23.0 Command: /Library/Frameworks/R.framework/Resources/bin/R CMD INSTALL graper StartedAt: 2025-02-09 15:06:15 -0500 (Sun, 09 Feb 2025) EndedAt: 2025-02-09 15:06:18 -0500 (Sun, 09 Feb 2025) EllapsedTime: 3.3 seconds RetCode: 1 Status: ERROR