Package: graper Version: 1.23.0 Command: /Library/Frameworks/R.framework/Resources/bin/R CMD build --keep-empty-dirs --no-resave-data graper StartedAt: 2025-02-09 16:57:58 -0500 (Sun, 09 Feb 2025) EndedAt: 2025-02-09 16:58:10 -0500 (Sun, 09 Feb 2025) EllapsedTime: 11.3 seconds RetCode: 1 Status: ERROR PackageFile: None PackageFileSize: NA