Package: graper Version: 1.23.0 Command: /home/biocbuild/bbs-3.21-bioc/R/bin/R CMD build --keep-empty-dirs --no-resave-data graper StartedAt: 2025-02-09 17:30:23 -0500 (Sun, 09 Feb 2025) EndedAt: 2025-02-09 17:30:36 -0500 (Sun, 09 Feb 2025) EllapsedTime: 13.0 seconds RetCode: 1 Status: ERROR PackageFile: None PackageFileSize: NA