Package: graper Version: 1.23.0 Command: /home/biocbuild/bbs-3.21-bioc/R/bin/R CMD check --install=check:graper.install-out.txt --library=/home/biocbuild/bbs-3.21-bioc/R/site-library --timings graper_1.23.0.tar.gz StartedAt: 2024-12-17 00:38:42 -0500 (Tue, 17 Dec 2024) EndedAt: 2024-12-17 00:43:41 -0500 (Tue, 17 Dec 2024) EllapsedTime: 298.4 seconds RetCode: 0 Status: OK CheckDir: graper.Rcheck Warnings: 0