Package: graper Version: 1.23.0 Command: /home/biocbuild/bbs-3.21-bioc/R/bin/R CMD INSTALL graper StartedAt: 2025-02-09 15:08:45 -0500 (Sun, 09 Feb 2025) EndedAt: 2025-02-09 15:09:00 -0500 (Sun, 09 Feb 2025) EllapsedTime: 14.6 seconds RetCode: 1 Status: ERROR