Package: graper Version: 1.23.0 Command: chmod a+r graper -R && E:\biocbuild\bbs-3.21-bioc\R\bin\R.exe CMD build --keep-empty-dirs --no-resave-data graper StartedAt: 2025-02-09 19:04:25 -0500 (Sun, 09 Feb 2025) EndedAt: 2025-02-09 19:04:48 -0500 (Sun, 09 Feb 2025) EllapsedTime: 23.1 seconds RetCode: 1 Status: ERROR PackageFile: None PackageFileSize: NA