Package: graphite Version: 1.53.0 Command: /home/biocbuild/R/R/bin/R CMD build --keep-empty-dirs --no-resave-data graphite StartedAt: 2025-01-28 23:22:11 -0000 (Tue, 28 Jan 2025) EndedAt: 2025-01-28 23:23:25 -0000 (Tue, 28 Jan 2025) EllapsedTime: 74.0 seconds RetCode: 0 Status: OK PackageFile: graphite_1.53.0.tar.gz PackageFileSize: 754.4 KiB