Package: graphite Version: 1.53.0 Command: /Library/Frameworks/R.framework/Resources/bin/R CMD build --keep-empty-dirs --no-resave-data graphite StartedAt: 2025-02-12 16:55:29 -0500 (Wed, 12 Feb 2025) EndedAt: 2025-02-12 16:56:34 -0500 (Wed, 12 Feb 2025) EllapsedTime: 64.9 seconds RetCode: 0 Status: OK PackageFile: graphite_1.53.0.tar.gz PackageFileSize: 766.5 KiB