Package: graphite Version: 1.53.0 Command: /Library/Frameworks/R.framework/Resources/bin/R CMD check --install=check:graphite.install-out.txt --library=/Library/Frameworks/R.framework/Resources/library --no-vignettes --timings graphite_1.53.0.tar.gz StartedAt: 2025-02-12 20:55:48 -0500 (Wed, 12 Feb 2025) EndedAt: 2025-02-12 21:00:21 -0500 (Wed, 12 Feb 2025) EllapsedTime: 272.8 seconds RetCode: 0 Status: OK CheckDir: graphite.Rcheck Warnings: 0