Package: graphite Version: 1.53.0 Command: /Library/Frameworks/R.framework/Resources/bin/R CMD INSTALL graphite StartedAt: 2025-02-09 15:13:41 -0500 (Sun, 09 Feb 2025) EndedAt: 2025-02-09 15:14:00 -0500 (Sun, 09 Feb 2025) EllapsedTime: 19.6 seconds RetCode: 0 Status: OK