Package: graphite Version: 1.53.0 Command: chmod a+r graphite -R && E:\biocbuild\bbs-3.21-bioc\R\bin\R.exe CMD build --keep-empty-dirs --no-resave-data graphite StartedAt: 2025-02-09 19:05:02 -0500 (Sun, 09 Feb 2025) EndedAt: 2025-02-09 19:06:29 -0500 (Sun, 09 Feb 2025) EllapsedTime: 86.8 seconds RetCode: 0 Status: OK PackageFile: graphite_1.53.0.tar.gz PackageFileSize: 765.1 KiB