Package: groHMM Version: 1.41.0 Command: /Library/Frameworks/R.framework/Resources/bin/R CMD build --keep-empty-dirs --no-resave-data groHMM StartedAt: 2025-02-09 16:58:43 -0500 (Sun, 09 Feb 2025) EndedAt: 2025-02-09 16:58:46 -0500 (Sun, 09 Feb 2025) EllapsedTime: 3.4 seconds RetCode: 1 Status: ERROR PackageFile: None PackageFileSize: NA