Package: groHMM Version: 1.41.0 Command: /Library/Frameworks/R.framework/Resources/bin/R CMD INSTALL groHMM StartedAt: 2025-02-09 15:17:35 -0500 (Sun, 09 Feb 2025) EndedAt: 2025-02-09 15:17:38 -0500 (Sun, 09 Feb 2025) EllapsedTime: 3.0 seconds RetCode: 1 Status: ERROR