Package: gscreend Version: 1.21.0 Command: /home/biocbuild/R/R/bin/R CMD build --keep-empty-dirs --no-resave-data gscreend StartedAt: 2025-01-28 23:24:39 -0000 (Tue, 28 Jan 2025) EndedAt: 2025-01-28 23:27:51 -0000 (Tue, 28 Jan 2025) EllapsedTime: 192.1 seconds RetCode: 0 Status: OK PackageFile: gscreend_1.21.0.tar.gz PackageFileSize: 3.131 MiB