Package: gscreend Version: 1.21.0 Command: /Library/Frameworks/R.framework/Resources/bin/R CMD build --keep-empty-dirs --no-resave-data gscreend StartedAt: 2025-02-09 16:59:27 -0500 (Sun, 09 Feb 2025) EndedAt: 2025-02-09 17:01:41 -0500 (Sun, 09 Feb 2025) EllapsedTime: 133.6 seconds RetCode: 0 Status: OK PackageFile: gscreend_1.21.0.tar.gz PackageFileSize: 3.113 MiB