Package: gscreend Version: 1.21.0 Command: /Library/Frameworks/R.framework/Resources/bin/R CMD INSTALL gscreend StartedAt: 2025-02-12 15:14:52 -0500 (Wed, 12 Feb 2025) EndedAt: 2025-02-12 15:15:21 -0500 (Wed, 12 Feb 2025) EllapsedTime: 28.8 seconds RetCode: 0 Status: OK