Package: gscreend Version: 1.21.0 Command: /home/biocbuild/bbs-3.21-bioc/R/bin/R CMD build --keep-empty-dirs --no-resave-data gscreend StartedAt: 2025-02-12 17:28:41 -0500 (Wed, 12 Feb 2025) EndedAt: 2025-02-12 17:30:13 -0500 (Wed, 12 Feb 2025) EllapsedTime: 92.1 seconds RetCode: 0 Status: OK PackageFile: gscreend_1.21.0.tar.gz PackageFileSize: 3.183 MiB