Package: gscreend Version: 1.21.0 Command: rm -rf gscreend.buildbin-libdir && mkdir gscreend.buildbin-libdir && E:\biocbuild\bbs-3.21-bioc\R\bin\R.exe CMD INSTALL --build --library=gscreend.buildbin-libdir gscreend_1.21.0.tar.gz StartedAt: 2025-02-13 08:04:21 -0500 (Thu, 13 Feb 2025) EndedAt: 2025-02-13 08:05:17 -0500 (Thu, 13 Feb 2025) EllapsedTime: 56.0 seconds RetCode: 0 Status: OK PackageFile: gscreend_1.21.0.zip PackageFileSize: 3.137 MiB