Package: gscreend Version: 1.21.0 Command: chmod a+r gscreend -R && E:\biocbuild\bbs-3.21-bioc\R\bin\R.exe CMD build --keep-empty-dirs --no-resave-data gscreend StartedAt: 2025-02-09 19:06:23 -0500 (Sun, 09 Feb 2025) EndedAt: 2025-02-09 19:09:02 -0500 (Sun, 09 Feb 2025) EllapsedTime: 158.4 seconds RetCode: 0 Status: OK PackageFile: gscreend_1.21.0.tar.gz PackageFileSize: 3.08 MiB