Package: gtrellis Version: 1.39.0 Command: rm -rf gtrellis.buildbin-libdir && mkdir gtrellis.buildbin-libdir && /Users/biocbuild/BBS/utils/build-universal.sh gtrellis_1.39.0.tar.gz /Library/Frameworks/R.framework/Resources/bin/R gtrellis.buildbin-libdir StartedAt: 2025-02-12 22:22:05 -0500 (Wed, 12 Feb 2025) EndedAt: 2025-02-12 22:22:10 -0500 (Wed, 12 Feb 2025) EllapsedTime: 5.1 seconds RetCode: 0 Status: OK PackageFile: gtrellis_1.39.0.tgz PackageFileSize: 4.135 MiB