Package: gtrellis Version: 1.39.0 Command: /home/biocbuild/bbs-3.21-bioc/R/bin/R CMD build --keep-empty-dirs --no-resave-data gtrellis StartedAt: 2025-02-12 17:30:04 -0500 (Wed, 12 Feb 2025) EndedAt: 2025-02-12 17:32:31 -0500 (Wed, 12 Feb 2025) EllapsedTime: 147.2 seconds RetCode: 0 Status: OK PackageFile: gtrellis_1.39.0.tar.gz PackageFileSize: 2.737 MiB